BEGIN:VCALENDAR
VERSION:2.0
PRODID:-//Elternverein OVS Karl Toldt Weg - ECPv6.8.2.1//NONSGML v1.0//EN
CALSCALE:GREGORIAN
METHOD:PUBLISH
X-WR-CALNAME:Elternverein OVS Karl Toldt Weg
X-ORIGINAL-URL:https://ev-ktw.at
X-WR-CALDESC:Veranstaltungen für Elternverein OVS Karl Toldt Weg
REFRESH-INTERVAL;VALUE=DURATION:PT1H
X-Robots-Tag:noindex
X-PUBLISHED-TTL:PT1H
BEGIN:VTIMEZONE
TZID:Europe/Vienna
BEGIN:DAYLIGHT
TZOFFSETFROM:+0100
TZOFFSETTO:+0200
TZNAME:CEST
DTSTART:20250330T010000
END:DAYLIGHT
BEGIN:STANDARD
TZOFFSETFROM:+0200
TZOFFSETTO:+0100
TZNAME:CET
DTSTART:20251026T010000
END:STANDARD
END:VTIMEZONE
BEGIN:VEVENT
DTSTART;TZID=Europe/Vienna:20251008T080000
DTEND;TZID=Europe/Vienna:20251008T130000
DTSTAMP:20260420T112847
CREATED:20250910T122009Z
LAST-MODIFIED:20250910T122009Z
UID:2047-1759910400-1759928400@ev-ktw.at
SUMMARY:Tag der Wiener Schulen
DESCRIPTION:
URL:https://ev-ktw.at/event/tag-der-wiener-schulen/
END:VEVENT
BEGIN:VEVENT
DTSTART;TZID=Europe/Vienna:20251010T090000
DTEND;TZID=Europe/Vienna:20251010T120000
DTSTAMP:20260420T112847
CREATED:20250910T122043Z
LAST-MODIFIED:20250910T122043Z
UID:2049-1760086800-1760097600@ev-ktw.at
SUMMARY:Tag der offenen Tür
DESCRIPTION:
URL:https://ev-ktw.at/event/tag-der-offenen-tuer/
END:VEVENT
BEGIN:VEVENT
DTSTART;TZID=Europe/Vienna:20251016T180000
DTEND;TZID=Europe/Vienna:20251016T200000
DTSTAMP:20260420T112847
CREATED:20250929T134111Z
LAST-MODIFIED:20250929T134111Z
UID:2056-1760637600-1760644800@ev-ktw.at
SUMMARY:Schulforum / Hauptversammlung des Elternvereins
DESCRIPTION:IMG_20250929_0003
URL:https://ev-ktw.at/event/schulforum-hauptversammlung-des-elternvereins-2/
END:VEVENT
BEGIN:VEVENT
DTSTART;VALUE=DATE:20251027
DTEND;VALUE=DATE:20251101
DTSTAMP:20260420T112847
CREATED:20250627T191147Z
LAST-MODIFIED:20250627T192354Z
UID:2013-1761523200-1761955199@ev-ktw.at
SUMMARY:Herbst-Ferien
DESCRIPTION:
URL:https://ev-ktw.at/event/herbstferien-5/
CATEGORIES:Ferien
END:VEVENT
END:VCALENDAR