BEGIN:VCALENDAR
VERSION:2.0
PRODID:-//Elternverein OVS Karl Toldt Weg - ECPv6.8.2.1//NONSGML v1.0//EN
CALSCALE:GREGORIAN
METHOD:PUBLISH
X-WR-CALNAME:Elternverein OVS Karl Toldt Weg
X-ORIGINAL-URL:https://ev-ktw.at
X-WR-CALDESC:Veranstaltungen für Elternverein OVS Karl Toldt Weg
REFRESH-INTERVAL;VALUE=DURATION:PT1H
X-Robots-Tag:noindex
X-PUBLISHED-TTL:PT1H
BEGIN:VTIMEZONE
TZID:Europe/Vienna
BEGIN:DAYLIGHT
TZOFFSETFROM:+0100
TZOFFSETTO:+0200
TZNAME:CEST
DTSTART:20250330T010000
END:DAYLIGHT
BEGIN:STANDARD
TZOFFSETFROM:+0200
TZOFFSETTO:+0100
TZNAME:CET
DTSTART:20251026T010000
END:STANDARD
END:VTIMEZONE
BEGIN:VEVENT
DTSTART;VALUE=DATE:20250607
DTEND;VALUE=DATE:20250610
DTSTAMP:20260420T175203
CREATED:20240630T180533Z
LAST-MODIFIED:20240630T180533Z
UID:1882-1749254400-1749513599@ev-ktw.at
SUMMARY:Pfingst-Ferien
DESCRIPTION:
URL:https://ev-ktw.at/event/pfingst-ferien/
CATEGORIES:Ferien
END:VEVENT
BEGIN:VEVENT
DTSTART;VALUE=DATE:20250619
DTEND;VALUE=DATE:20250620
DTSTAMP:20260420T175203
CREATED:20240630T180040Z
LAST-MODIFIED:20240630T180049Z
UID:1873-1750291200-1750377599@ev-ktw.at
SUMMARY:Fronleichnam (schulfrei)
DESCRIPTION:
URL:https://ev-ktw.at/event/fronleichnam-2/
END:VEVENT
BEGIN:VEVENT
DTSTART;TZID=Europe/Vienna:20250627T090000
DTEND;TZID=Europe/Vienna:20250627T093000
DTSTAMP:20260420T175203
CREATED:20250615T170929Z
LAST-MODIFIED:20250615T171142Z
UID:2002-1751014800-1751016600@ev-ktw.at
SUMMARY:Zeugnisverteilung (KEIN Frühdienst\, KEINE Nachmittagsbetreuung)
DESCRIPTION:Das Schultor ist bis 8:50 Uhr versperrt
URL:https://ev-ktw.at/event/zeugnisverteilung-kein-fruehdienst-keine-nachmittagsbetreuung/
END:VEVENT
BEGIN:VEVENT
DTSTART;VALUE=DATE:20250628
DTEND;VALUE=DATE:20250901
DTSTAMP:20260420T175203
CREATED:20240630T180709Z
LAST-MODIFIED:20240630T180709Z
UID:1884-1751068800-1756684799@ev-ktw.at
SUMMARY:Sommer-Ferien
DESCRIPTION:
URL:https://ev-ktw.at/event/sommer-ferien/
CATEGORIES:Ferien
END:VEVENT
END:VCALENDAR