BEGIN:VCALENDAR
VERSION:2.0
PRODID:-//Elternverein OVS Karl Toldt Weg - ECPv6.8.2.1//NONSGML v1.0//EN
CALSCALE:GREGORIAN
METHOD:PUBLISH
X-ORIGINAL-URL:https://ev-ktw.at
X-WR-CALDESC:Veranstaltungen für Elternverein OVS Karl Toldt Weg
REFRESH-INTERVAL;VALUE=DURATION:PT1H
X-Robots-Tag:noindex
X-PUBLISHED-TTL:PT1H
BEGIN:VTIMEZONE
TZID:Europe/Vienna
BEGIN:DAYLIGHT
TZOFFSETFROM:+0100
TZOFFSETTO:+0200
TZNAME:CEST
DTSTART:20240331T010000
END:DAYLIGHT
BEGIN:STANDARD
TZOFFSETFROM:+0200
TZOFFSETTO:+0100
TZNAME:CET
DTSTART:20241027T010000
END:STANDARD
END:VTIMEZONE
BEGIN:VEVENT
DTSTART;TZID=Europe/Vienna:20241209T183000
DTEND;TZID=Europe/Vienna:20241209T200000
DTSTAMP:20260421T055444
CREATED:20241123T214220Z
LAST-MODIFIED:20241123T214220Z
UID:1954-1733769000-1733774400@ev-ktw.at
SUMMARY:außerordentliche Hauptversammlung ONLINE!
DESCRIPTION:Nähere Informationen siehe SchoolFox Nachricht vom 22.11.2024
URL:https://ev-ktw.at/event/ausserordentliche-hauptversammlung-online/
END:VEVENT
END:VCALENDAR