BEGIN:VCALENDAR
VERSION:2.0
PRODID:-//Elternverein OVS Karl Toldt Weg - ECPv6.8.2.1//NONSGML v1.0//EN
CALSCALE:GREGORIAN
METHOD:PUBLISH
X-WR-CALNAME:Elternverein OVS Karl Toldt Weg
X-ORIGINAL-URL:https://ev-ktw.at
X-WR-CALDESC:Veranstaltungen für Elternverein OVS Karl Toldt Weg
REFRESH-INTERVAL;VALUE=DURATION:PT1H
X-Robots-Tag:noindex
X-PUBLISHED-TTL:PT1H
BEGIN:VTIMEZONE
TZID:Europe/Vienna
BEGIN:DAYLIGHT
TZOFFSETFROM:+0100
TZOFFSETTO:+0200
TZNAME:CEST
DTSTART:20240331T010000
END:DAYLIGHT
BEGIN:STANDARD
TZOFFSETFROM:+0200
TZOFFSETTO:+0100
TZNAME:CET
DTSTART:20241027T010000
END:STANDARD
END:VTIMEZONE
BEGIN:VEVENT
DTSTART;VALUE=DATE:20241206
DTEND;VALUE=DATE:20241207
DTSTAMP:20260421T055047
CREATED:20241008T102717Z
LAST-MODIFIED:20241123T214349Z
UID:1928-1733443200-1733529599@ev-ktw.at
SUMMARY:Weihnachtskonzert der OVS KTW
DESCRIPTION:Konzert 1.2. Klassen: 09:30 Uhr – ca. 10:15 Uhr \nKonzert 3.4. Klassen: 10:45 Uhr – ca. 11:30 Uhr
URL:https://ev-ktw.at/event/weihnachtskonzert-der-ovs-ktw/
END:VEVENT
END:VCALENDAR