BEGIN:VCALENDAR
VERSION:2.0
PRODID:-//Elternverein OVS Karl Toldt Weg - ECPv6.8.2.1//NONSGML v1.0//EN
CALSCALE:GREGORIAN
METHOD:PUBLISH
X-ORIGINAL-URL:https://ev-ktw.at
X-WR-CALDESC:Veranstaltungen für Elternverein OVS Karl Toldt Weg
REFRESH-INTERVAL;VALUE=DURATION:PT1H
X-Robots-Tag:noindex
X-PUBLISHED-TTL:PT1H
BEGIN:VTIMEZONE
TZID:Europe/Vienna
BEGIN:DAYLIGHT
TZOFFSETFROM:+0100
TZOFFSETTO:+0200
TZNAME:CEST
DTSTART:20240331T010000
END:DAYLIGHT
BEGIN:STANDARD
TZOFFSETFROM:+0200
TZOFFSETTO:+0100
TZNAME:CET
DTSTART:20241027T010000
END:STANDARD
END:VTIMEZONE
BEGIN:VEVENT
DTSTART;TZID=Europe/Vienna:20240903T080000
DTEND;TZID=Europe/Vienna:20240903T115500
DTSTAMP:20260421T112533
CREATED:20240625T105107Z
LAST-MODIFIED:20240625T105107Z
UID:1849-1725350400-1725364500@ev-ktw.at
SUMMARY:2. Schultag MIT Frühdienst (ab 7:15) & Nachmittagsbetreuung (bis 17:30)
DESCRIPTION:
URL:https://ev-ktw.at/event/2-schultag-mit-fruehdienst-ab-715-nachmittagsbetreuung-bis-1730/
END:VEVENT
END:VCALENDAR