BEGIN:VCALENDAR
VERSION:2.0
PRODID:-//Elternverein OVS Karl Toldt Weg - ECPv6.8.2.1//NONSGML v1.0//EN
CALSCALE:GREGORIAN
METHOD:PUBLISH
X-ORIGINAL-URL:https://ev-ktw.at
X-WR-CALDESC:Veranstaltungen für Elternverein OVS Karl Toldt Weg
REFRESH-INTERVAL;VALUE=DURATION:PT1H
X-Robots-Tag:noindex
X-PUBLISHED-TTL:PT1H
BEGIN:VTIMEZONE
TZID:Europe/Vienna
BEGIN:DAYLIGHT
TZOFFSETFROM:+0100
TZOFFSETTO:+0200
TZNAME:CEST
DTSTART:20240331T010000
END:DAYLIGHT
BEGIN:STANDARD
TZOFFSETFROM:+0200
TZOFFSETTO:+0100
TZNAME:CET
DTSTART:20241027T010000
END:STANDARD
END:VTIMEZONE
BEGIN:VEVENT
DTSTART;TZID=Europe/Vienna:20240902T090000
DTEND;TZID=Europe/Vienna:20240902T095000
DTSTAMP:20260421T112445
CREATED:20240625T104749Z
LAST-MODIFIED:20240625T104749Z
UID:1847-1725267600-1725270600@ev-ktw.at
SUMMARY:1. Schultag KEIN Frühdienst & Nachmittagsbetreuung
DESCRIPTION:Schultore öffnen um 08:50 Uhr
URL:https://ev-ktw.at/event/1-schultag-kein-fruehdienst-nachmittagsbetreuung/
END:VEVENT
END:VCALENDAR